BEGIN:VCALENDAR
VERSION:2.0
PRODID:-//LeisureCourses.net - short courses &amp; residential study breaks in great locations - ECPv4.9.6//NONSGML v1.0//EN
CALSCALE:GREGORIAN
METHOD:PUBLISH
X-WR-CALNAME:LeisureCourses.net - short courses &amp; residential study breaks in great locations
X-ORIGINAL-URL:https://www.leisurecourses.net
X-WR-CALDESC:Events for LeisureCourses.net - short courses &amp; residential study breaks in great locations
BEGIN:VTIMEZONE
TZID:"Europe/Paris"
BEGIN:DAYLIGHT
TZOFFSETFROM:+0100
TZOFFSETTO:+0200
TZNAME:CEST
DTSTART:20130331T010000
END:DAYLIGHT
BEGIN:STANDARD
TZOFFSETFROM:+0200
TZOFFSETTO:+0100
TZNAME:CET
DTSTART:20131027T010000
END:STANDARD
END:VTIMEZONE
BEGIN:VEVENT
DTSTART;TZID="Europe/Paris":20131015T180000
DTEND;TZID="Europe/Paris":20131017T100000
DTSTAMP:20260421T143702
CREATED:20130604T134317Z
LAST-MODIFIED:20130822T124620Z
UID:1799-1381860000-1382004000@www.leisurecourses.net
SUMMARY:Wagner: Lohengrin
DESCRIPTION:\nOur conference will consider the development of Wagner’s career and in particular his opera Lohengrin. We will discuss the relationship between music\, characterisation and drama\, with illustrations on excellent hi-fi equipment including DVD with large screen. \nThe characterful Lee Wood Hotel is located in its own grounds in the historic spa town of Buxton. The hotel has excellent facilities and an award-winning restaurant. \n\n \n
URL:https://www.leisurecourses.net/course/wagner-lohengrin/
LOCATION:Lee Wood Hotel\, The Park\, Buxton\, Derbyshire\, SK17 6TQ\, United Kingdom
CATEGORIES:Music
ATTACH;FMTTYPE=image/jpeg:https://www.leisurecourses.net/wp-content/uploads/lee-wood.jpg
ORGANIZER;CN="Arts%20in%20Residence":MAILTO:info@artsinresidence.co.uk
END:VEVENT
END:VCALENDAR