BEGIN:VCALENDAR
VERSION:2.0
PRODID:-//LeisureCourses.net - short courses &amp; residential study breaks in great locations - ECPv4.9.6//NONSGML v1.0//EN
CALSCALE:GREGORIAN
METHOD:PUBLISH
X-WR-CALNAME:LeisureCourses.net - short courses &amp; residential study breaks in great locations
X-ORIGINAL-URL:https://www.leisurecourses.net
X-WR-CALDESC:Events for LeisureCourses.net - short courses &amp; residential study breaks in great locations
BEGIN:VTIMEZONE
TZID:"Europe/Paris"
BEGIN:DAYLIGHT
TZOFFSETFROM:+0100
TZOFFSETTO:+0200
TZNAME:CEST
DTSTART:20150329T010000
END:DAYLIGHT
BEGIN:STANDARD
TZOFFSETFROM:+0200
TZOFFSETTO:+0100
TZNAME:CET
DTSTART:20151025T010000
END:STANDARD
END:VTIMEZONE
BEGIN:VEVENT
DTSTART;TZID="Europe/Paris":20150320T180000
DTEND;TZID="Europe/Paris":20150322T140000
DTSTAMP:20260419T185406
CREATED:20150119T114920Z
LAST-MODIFIED:20150119T114920Z
UID:10735-1426874400-1427032800@www.leisurecourses.net
SUMMARY:Wake up Laughing
DESCRIPTION:\n \nimage credit Benjamin Thompson \n\nHow do laughter practices help you come alive\, connect and engage? How do they lift your mood and spirit? Why are hundreds of thousands of people worldwide now using them? It’s surprising this ancient practice was ever forgotten. Come and experience how laughter yoga and natural laughter skills (NLS) inspire\, energise and help heal people’s lives. \n  \n\n \n
URL:https://www.leisurecourses.net/course/wake-laughing/
LOCATION:Hawkwood College\, Painswick Old Road \, Stroud \, Gloucestershire\, GL6 7QW\, United Kingdom
CATEGORIES:Fitness & Wellbeing
ORGANIZER;CN="Hawkwood%20College":MAILTO:info@hawkwoodcollege.co.uk
END:VEVENT
END:VCALENDAR