BEGIN:VCALENDAR
VERSION:2.0
PRODID:-//LeisureCourses.net - short courses &amp; residential study breaks in great locations - ECPv4.9.6//NONSGML v1.0//EN
CALSCALE:GREGORIAN
METHOD:PUBLISH
X-WR-CALNAME:LeisureCourses.net - short courses &amp; residential study breaks in great locations
X-ORIGINAL-URL:https://www.leisurecourses.net
X-WR-CALDESC:Events for LeisureCourses.net - short courses &amp; residential study breaks in great locations
BEGIN:VTIMEZONE

END:VTIMEZONE
BEGIN:VEVENT
DTSTART;TZID="Europe/Paris":19700101T000000
DTEND;TZID="Europe/Paris":19700101T000000
DTSTAMP:20260420T012137
CREATED:20150215T131941Z
LAST-MODIFIED:20150215T133818Z
UID:12298-0-0@www.leisurecourses.net
SUMMARY:Watercolours for Beginners with Michael Burgess
DESCRIPTION:\nUse watercolours to produce paintings in this delicate but expressive medium. A class for beginners and those with a little experience. Fun and enjoyment form an important aspect of the course. \n\n \n
URL:https://www.leisurecourses.net/course/watercolours-for-beginners-with-michael-burgess-3/
LOCATION:Denman\, Denman \, Abingdon\, Oxfordshire\, OX13 6NW\, United Kingdom
CATEGORIES:Crafts
ORGANIZER;CN="Denman":MAILTO:info@denman.org.uk
END:VEVENT
END:VCALENDAR