BEGIN:VCALENDAR
VERSION:2.0
PRODID:-//LeisureCourses.net - short courses &amp; residential study breaks in great locations - ECPv4.9.6//NONSGML v1.0//EN
CALSCALE:GREGORIAN
METHOD:PUBLISH
X-WR-CALNAME:LeisureCourses.net - short courses &amp; residential study breaks in great locations
X-ORIGINAL-URL:https://www.leisurecourses.net
X-WR-CALDESC:Events for LeisureCourses.net - short courses &amp; residential study breaks in great locations
BEGIN:VTIMEZONE
TZID:"Europe/Paris"
BEGIN:DAYLIGHT
TZOFFSETFROM:+0100
TZOFFSETTO:+0200
TZNAME:CEST
DTSTART:20160327T010000
END:DAYLIGHT
BEGIN:STANDARD
TZOFFSETFROM:+0200
TZOFFSETTO:+0100
TZNAME:CET
DTSTART:20161030T010000
END:STANDARD
END:VTIMEZONE
BEGIN:VEVENT
DTSTART;TZID="Europe/Paris":20160318T190000
DTEND;TZID="Europe/Paris":20160320T140000
DTSTAMP:20260420T024533
CREATED:20160129T125424Z
LAST-MODIFIED:20160129T163941Z
UID:20269-1458327600-1458482400@www.leisurecourses.net
SUMMARY:Why are the Americans more religious than the British?
DESCRIPTION:\nAs the race for the Presidency hots up\, are you baffled by the role religion continues to play in American life? This course will set you straight. Learn about the history that has shaped American religious sensibilities\, explore the data of religious practice today\, and enter the American mind. \n\n \n
URL:https://www.leisurecourses.net/course/why-are-the-americans-more-religious-than-the-british/
LOCATION:Madingley Hall\, Madingley Hall\,\, Madingley\, Cambridgeshire\, CB23 8AQ\, United Kingdom
CATEGORIES:Other
ORGANIZER;CN="University%20of%20Cambridge%20Institute%20of%20Continuing%20Education":MAILTO:enquiries@ice.cam.ac.uk
END:VEVENT
END:VCALENDAR