BEGIN:VCALENDAR
VERSION:2.0
PRODID:-//LeisureCourses.net - short courses &amp; residential study breaks in great locations - ECPv4.9.6//NONSGML v1.0//EN
CALSCALE:GREGORIAN
METHOD:PUBLISH
X-WR-CALNAME:LeisureCourses.net - short courses &amp; residential study breaks in great locations
X-ORIGINAL-URL:https://www.leisurecourses.net
X-WR-CALDESC:Events for LeisureCourses.net - short courses &amp; residential study breaks in great locations
BEGIN:VTIMEZONE
TZID:"Europe/Paris"
BEGIN:DAYLIGHT
TZOFFSETFROM:+0100
TZOFFSETTO:+0200
TZNAME:CEST
DTSTART:20130331T010000
END:DAYLIGHT
BEGIN:STANDARD
TZOFFSETFROM:+0200
TZOFFSETTO:+0100
TZNAME:CET
DTSTART:20131027T010000
END:STANDARD
END:VTIMEZONE
BEGIN:VEVENT
DTSTART;TZID="Europe/Paris":20130830T080000
DTEND;TZID="Europe/Paris":20130831T170000
DTSTAMP:20260419T205303
CREATED:20130727T090145Z
LAST-MODIFIED:20130822T123713Z
UID:3956-1377849600-1377968400@www.leisurecourses.net
SUMMARY:Wildlife painting using Gouache (opaque watercolour)
DESCRIPTION:\nA course specifically about learning gouache techniques so no special drawing/painting skills required and using subjects provided or from your own photos of your chosen subject or pet.  Individual tuition to help you achieve a precise painting.  A fun and informative workshop with individual tuition and demonstrations by the tutor.\n \n\n \n
URL:https://www.leisurecourses.net/course/wildlife-painting-gouache-opaque-watercolour/
LOCATION:Three Ways House\, Chapel Lane Mickleton\, \, Chipping Campden\,\, Gloucestershire\, GL55 6SB\, United Kingdom
CATEGORIES:Painting and Drawing
ATTACH;FMTTYPE=image/jpeg:https://www.leisurecourses.net/wp-content/uploads/Pictures-by-Simon-Williams_0.jpg
END:VEVENT
END:VCALENDAR