BEGIN:VCALENDAR
VERSION:2.0
PRODID:-//LeisureCourses.net - short courses &amp; residential study breaks in great locations - ECPv4.9.6//NONSGML v1.0//EN
CALSCALE:GREGORIAN
METHOD:PUBLISH
X-WR-CALNAME:LeisureCourses.net - short courses &amp; residential study breaks in great locations
X-ORIGINAL-URL:https://www.leisurecourses.net
X-WR-CALDESC:Events for LeisureCourses.net - short courses &amp; residential study breaks in great locations
BEGIN:VTIMEZONE
TZID:"Europe/Paris"
BEGIN:DAYLIGHT
TZOFFSETFROM:+0100
TZOFFSETTO:+0200
TZNAME:CEST
DTSTART:20160327T010000
END:DAYLIGHT
BEGIN:STANDARD
TZOFFSETFROM:+0200
TZOFFSETTO:+0100
TZNAME:CET
DTSTART:20161030T010000
END:STANDARD
END:VTIMEZONE
BEGIN:VEVENT
DTSTART;TZID="Europe/Paris":20160604T100000
DTEND;TZID="Europe/Paris":20160605T160000
DTSTAMP:20260420T062724
CREATED:20160108T111248Z
LAST-MODIFIED:20160111T102428Z
UID:19732-1465034400-1465142400@www.leisurecourses.net
SUMMARY:Woodcarving
DESCRIPTION:\nThese courses take learners from complete beginners to the very advanced through a carefully planned series of projects covering traditional and modern carving styles such as foliage ornament and frame or architectural mouldings\, figure and animal carving in the round\, lettercutting and abstract sculpture. Design skills are also included. Learners can enrol on single courses as tasters or join several weekends to develop their skills and ideas. The courses run from Saturday 9.30am until Sunday 4.30pm and are held in the Oldham Hall or C of E Combined School. \n\n \n
URL:https://www.leisurecourses.net/course/woodcarving-3/
LOCATION:Missenden Abbey\, Great Missenden\, Buckinghamshire\, HP16 0BD\, United Kingdom
CATEGORIES:Crafts
ORGANIZER;CN="Buckinghamshire%20Adult%20Learning":MAILTO:dcevreham@buckscc.gov.uk
END:VEVENT
END:VCALENDAR