BEGIN:VCALENDAR
VERSION:2.0
PRODID:-//LeisureCourses.net - short courses &amp; residential study breaks in great locations - ECPv4.9.6//NONSGML v1.0//EN
CALSCALE:GREGORIAN
METHOD:PUBLISH
X-WR-CALNAME:LeisureCourses.net - short courses &amp; residential study breaks in great locations
X-ORIGINAL-URL:https://www.leisurecourses.net
X-WR-CALDESC:Events for LeisureCourses.net - short courses &amp; residential study breaks in great locations
BEGIN:VTIMEZONE
TZID:"Europe/Paris"
BEGIN:DAYLIGHT
TZOFFSETFROM:+0100
TZOFFSETTO:+0200
TZNAME:CEST
DTSTART:20160327T010000
END:DAYLIGHT
BEGIN:STANDARD
TZOFFSETFROM:+0200
TZOFFSETTO:+0100
TZNAME:CET
DTSTART:20161030T010000
END:STANDARD
END:VTIMEZONE
BEGIN:VEVENT
DTSTART;TZID="Europe/Paris":20160215T083000
DTEND;TZID="Europe/Paris":20160219T173000
DTSTAMP:20260420T103233
CREATED:20130605T035907Z
LAST-MODIFIED:20151027T153523Z
UID:1853-1455525000-1455903000@www.leisurecourses.net
SUMMARY:Wooden Boat Restoration
DESCRIPTION:\nA five day melting pot of traditional and more modern techniques. Practical activities include tool sharpening\, timber preparation\, scarfing\, gluing\, removal and re-fitting of clinker planking\, riveting and steam bending. Time permitting you will also refit internal components such as thwarts\, risers and knees. \nCourses are suitable for complete beginners as well as experienced boat builders wishing to add or hone a particular skill. Well behaved dogs are welcome too. \nFor more information please contact us. We are always happy to discuss which course is right for you. Please contact Janine Cashin on 01297 445545 or email office@boatbuildingacademy.com. \n\n \n
URL:https://www.leisurecourses.net/course/wooden-boat-restoration/
LOCATION:Boat Building Academy\, Lyme Regis Marine Centre\, Monmouth Beach \, Lyme Regis\, Dorset\, DT7 3JN\, United Kingdom
CATEGORIES:Crafts
ATTACH;FMTTYPE=image/jpeg:https://www.leisurecourses.net/wp-content/uploads/DSC_1320web.jpg
ORGANIZER;CN="Boat%20Building%20Academy":MAILTO:office@boatbuildingacademy.com
END:VEVENT
END:VCALENDAR