BEGIN:VCALENDAR
VERSION:2.0
PRODID:-//LeisureCourses.net - short courses &amp; residential study breaks in great locations - ECPv4.9.6//NONSGML v1.0//EN
CALSCALE:GREGORIAN
METHOD:PUBLISH
X-WR-CALNAME:LeisureCourses.net - short courses &amp; residential study breaks in great locations
X-ORIGINAL-URL:https://www.leisurecourses.net
X-WR-CALDESC:Events for LeisureCourses.net - short courses &amp; residential study breaks in great locations
BEGIN:VTIMEZONE
TZID:"Europe/Paris"
BEGIN:DAYLIGHT
TZOFFSETFROM:+0100
TZOFFSETTO:+0200
TZNAME:CEST
DTSTART:20130331T010000
END:DAYLIGHT
BEGIN:STANDARD
TZOFFSETFROM:+0200
TZOFFSETTO:+0100
TZNAME:CET
DTSTART:20131027T010000
END:STANDARD
END:VTIMEZONE
BEGIN:VEVENT
DTSTART;TZID="Europe/Paris":20131007T080000
DTEND;TZID="Europe/Paris":20131009T170000
DTSTAMP:20260419T224555
CREATED:20130725T074918Z
LAST-MODIFIED:20130822T123713Z
UID:3892-1381132800-1381338000@www.leisurecourses.net
SUMMARY:The Wow Factor! - Composition and Colour in Autumn in Watercolour/Coloured Pencil
DESCRIPTION:\nWorking on watercolour paper we will look at the characteristics of striking compositions that have a real ‘wow’.  We will also consider the colours and textures which contribute to the compositions focusing on the jewel colours and forms from the garden and hedgerow at this time of year.  Using colour technique and looking at texture we will examine how to work paper to create lively and accurate paintings\, looking at the different pigments that can be used together to create the jewel colours that can be found in autumn and considering both palette mixing as well as laying down washes. With individual tuition\, group discussion and demonstration and with examples of work and plant material supplied you can work in watercolour or colour pencil.  This course is for the near beginner through to those with some experience.  \n\n \n
URL:https://www.leisurecourses.net/course/wow-factor-composition-colour-autumn-watercolourcoloured-pencil/
LOCATION:Barnsdale Lodge Hotel\, The Avenue Exton\, \, Oakham\, \, Leicestershire\, LE15 8AH\, United Kingdom
CATEGORIES:Painting and Drawing
ATTACH;FMTTYPE=image/jpeg:https://www.leisurecourses.net/wp-content/uploads/Enduring-love-edit1_0.jpg
END:VEVENT
END:VCALENDAR