BEGIN:VCALENDAR
VERSION:2.0
PRODID:-//LeisureCourses.net - short courses &amp; residential study breaks in great locations - ECPv4.9.6//NONSGML v1.0//EN
CALSCALE:GREGORIAN
METHOD:PUBLISH
X-WR-CALNAME:LeisureCourses.net - short courses &amp; residential study breaks in great locations
X-ORIGINAL-URL:https://www.leisurecourses.net
X-WR-CALDESC:Events for LeisureCourses.net - short courses &amp; residential study breaks in great locations
BEGIN:VTIMEZONE
TZID:"Europe/Paris"
BEGIN:DAYLIGHT
TZOFFSETFROM:+0100
TZOFFSETTO:+0200
TZNAME:CEST
DTSTART:20160327T010000
END:DAYLIGHT
BEGIN:STANDARD
TZOFFSETFROM:+0200
TZOFFSETTO:+0100
TZNAME:CET
DTSTART:20161030T010000
END:STANDARD
END:VTIMEZONE
BEGIN:VEVENT
DTSTART;TZID="Europe/Paris":20160509T000000
DTEND;TZID="Europe/Paris":20160613T000000
DTSTAMP:20260420T015937
CREATED:20160129T125429Z
LAST-MODIFIED:20160129T145117Z
UID:20321-1462752000-1465776000@www.leisurecourses.net
SUMMARY:Writing with confidence
DESCRIPTION:\nThis short series of stimulating workshops aims to take the isolation and frustration out of creative writing\, and inject enthusiasm and confidence in their place. The basic nuts and bolts of good fiction will be scrutinised\, with attention to constructing a satisfying plot\, writing believable characters\, developing a narrative voice\, creating effective dialogue\, building atmosphere\, sustaining tension and pace and\, importantly\, adopting useful strategies for self-editing. You will engage with your own writing equipped with new perspectives\, fresh ideas and the confidence to implement them with a renewed sense of purpose. \n\n \n
URL:https://www.leisurecourses.net/course/writing-with-confidence/
LOCATION:Madingley Hall\, Madingley Hall\,\, Madingley\, Cambridgeshire\, CB23 8AQ\, United Kingdom
CATEGORIES:Writing
ORGANIZER;CN="University%20of%20Cambridge%20Institute%20of%20Continuing%20Education":MAILTO:enquiries@ice.cam.ac.uk
END:VEVENT
END:VCALENDAR